BEGIN:VCALENDAR
VERSION:2.0
PRODID:-//Institut Supply Chain dan Logistik Indonesia (ISLI) - ECPv5.4.0.1//NONSGML v1.0//EN
CALSCALE:GREGORIAN
METHOD:PUBLISH
X-WR-CALNAME:Institut Supply Chain dan Logistik Indonesia (ISLI)
X-ORIGINAL-URL:https://isli.or.id
X-WR-CALDESC:Events for Institut Supply Chain dan Logistik Indonesia (ISLI)
BEGIN:VTIMEZONE
TZID:Asia/Jakarta
BEGIN:STANDARD
TZOFFSETFROM:+0700
TZOFFSETTO:+0700
TZNAME:WIB
DTSTART:20200101T000000
END:STANDARD
END:VTIMEZONE
BEGIN:VEVENT
DTSTART;TZID=Asia/Jakarta:20201219T083000
DTEND;TZID=Asia/Jakarta:20201220T121500
DTSTAMP:20260420T154526
CREATED:20201209T081008Z
LAST-MODIFIED:20201209T081008Z
UID:1716-1608366600-1608466500@isli.or.id
SUMMARY:ISLI Camp 2020
DESCRIPTION:Dalam kegiatannya\, ISLI CAMP melibatkan mahasiswa\, akademisi dan praktisi agar informasi\, wawasan dan pengetahuan yang didapatkan dapat dari berbagai perspektif. Pada tahun ini\, ISLI CAMP hadir dengan tema “Digital Innovation for Elastics Logistics: Preparing The Future Supply Chain Transformation in Indonesia“. ISLI CAMP 2020 akan diselenggarakan secara online pada: \nTanggal: 19 – 20 Desember 2020\nHari: Sabtu dan Minggu\nPukul: 08.30 s/d 12.15\nPlatform: Zoom Video Communications \nPada hari pertama akan ada opening dari Prof. Nyoman Pujawan\, Ph.D\, CSCP\, CSCA selaku Presiden ISLI dan dilanjutkan dengan insightful session dari speaker yang sudah expert pada bidang supply chain dan logistik. Sedangkan pada hari kedua akan ada sharing session antara mahasiswa\, akademisi dan praktisi yang telah dikemas secara menarik agar dapat memberikan good experience kepada peserta. Selain itu\, terdapat juga poster competition dan creative content video competiton dengan total hadiah sebesar IDR 3.000.000 \nAre you interested? Klik link dibawah untuk pendaftaran \nKetentuan terkait dengan kompetisi dapat dilihat pada: \nUntuk informasi lebih lanjut\, pendaftaran dan pembayaran dapat menghubungi (WA):\nShodiqul (089675759703) \nUntuk Sponsorship and Collaboration dapat menghubungi:\nFaza (081586781561) \nTerimakasih. See you at ISLI CAMP 2020!
URL:https://isli.or.id/event/isli-camp-2020/
CATEGORIES:Agenda
END:VEVENT
END:VCALENDAR