BEGIN:VCALENDAR
VERSION:2.0
PRODID:-//Institut Supply Chain dan Logistik Indonesia (ISLI) - ECPv5.4.0.1//NONSGML v1.0//EN
CALSCALE:GREGORIAN
METHOD:PUBLISH
X-WR-CALNAME:Institut Supply Chain dan Logistik Indonesia (ISLI)
X-ORIGINAL-URL:https://isli.or.id
X-WR-CALDESC:Events for Institut Supply Chain dan Logistik Indonesia (ISLI)
BEGIN:VTIMEZONE
TZID:Asia/Jakarta
BEGIN:STANDARD
TZOFFSETFROM:+0700
TZOFFSETTO:+0700
TZNAME:WIB
DTSTART:20220101T000000
END:STANDARD
END:VTIMEZONE
BEGIN:VEVENT
DTSTART;VALUE=DATE:20221021
DTEND;VALUE=DATE:20221023
DTSTAMP:20260421T160320
CREATED:20221025T064247Z
LAST-MODIFIED:20221026T054446Z
UID:1899-1666310400-1666483199@isli.or.id
SUMMARY:Seminar Nasional & Kongres ISLI 2022 "Sustainable Supply Chain for Circular Economy"
DESCRIPTION:
URL:https://isli.or.id/event/seminar-nasional-kongres-isli-2022-sustainable-supply-chain-for-circular-economy/
LOCATION:Fakultas Teknik  Universitas Gadjah Mada\, Jl. Grafika No.2\, Sendowo\, Sinduadi\, Kec. Mlati\, Kabupaten Sleman\, Daerah Istimewa Yogyakarta\, 55281\, Indonesia
CATEGORIES:Agenda
ORGANIZER;CN="ISLI":MAILTO:isli.indonesia@gmail.com
END:VEVENT
END:VCALENDAR