BEGIN:VCALENDAR
VERSION:2.0
PRODID:-//Institut Supply Chain dan Logistik Indonesia (ISLI) - ECPv5.4.0.1//NONSGML v1.0//EN
CALSCALE:GREGORIAN
METHOD:PUBLISH
X-WR-CALNAME:Institut Supply Chain dan Logistik Indonesia (ISLI)
X-ORIGINAL-URL:https://isli.or.id
X-WR-CALDESC:Events for Institut Supply Chain dan Logistik Indonesia (ISLI)
BEGIN:VTIMEZONE
TZID:Asia/Jakarta
BEGIN:STANDARD
TZOFFSETFROM:+0700
TZOFFSETTO:+0700
TZNAME:WIB
DTSTART:20210101T000000
END:STANDARD
END:VTIMEZONE
BEGIN:VEVENT
DTSTART;VALUE=DATE:20210924
DTEND;VALUE=DATE:20210926
DTSTAMP:20260420T173716
CREATED:20210910T031404Z
LAST-MODIFIED:20210910T031404Z
UID:1748-1632441600-1632614399@isli.or.id
SUMMARY:Seminar Sinergitas Membangun Rantai Pasok Bencana yang Tangguh
DESCRIPTION:ISLI akan menyelenggarakan Seminar Nasional dengan tema “Sinergitas Membangun Rantai Pasok Bencana yang Tangguh”. Seminar ini diselenggarakan oleh tim Relief-OpS yang saat ini sedang mengembangkan metode optimasi logistik untuk bahan pangan penting. Sebagai tindak lanjut kesiapsiagaan terjadinya bencana alam di wilayah yang memiliki kerentanan tinggi terhadap terjadinya bencana alam. Seminar akan dilaksanakan secara hybrid selama 2 hari\, dimana hari pertama akan diselenggarakan Seminar Nasional dengan Keynote Speaker dan Pembicara Undangan untuk ISLI dan dilanjutkan dengan Sharing Session bersama ISLI dan Workshop. Detail informasi acara adalah sebagai berikut: \nTanggal                     : 24-25 September 2021 \nTempat                      : Trans Luxury Hotel Bandung & Zoom (online) \nBiaya Pendaftaran  : Rp. 100.000\,- \nLink Pendaftaran     :  \nCara Pembayaran   : Transfer ke Bank BNI 8887088807 a.n Fernianda Rahayu H. \nContact Person        : Hanifa (+62 812 1414 0820) \nIsmi (+62 813 8120 0691) \nDaftarkan diri Anda segera\, karena kuota online dan offline terbatas.
URL:https://isli.or.id/event/seminar-sinergitas-membangun-rantai-pasok-bencana-yang-tangguh/
CATEGORIES:Agenda
END:VEVENT
END:VCALENDAR