BEGIN:VCALENDAR
VERSION:2.0
PRODID:-//Institut Supply Chain dan Logistik Indonesia (ISLI) - ECPv5.4.0.1//NONSGML v1.0//EN
CALSCALE:GREGORIAN
METHOD:PUBLISH
X-WR-CALNAME:Institut Supply Chain dan Logistik Indonesia (ISLI)
X-ORIGINAL-URL:https://isli.or.id
X-WR-CALDESC:Events for Institut Supply Chain dan Logistik Indonesia (ISLI)
BEGIN:VTIMEZONE
TZID:Asia/Jakarta
BEGIN:STANDARD
TZOFFSETFROM:+0700
TZOFFSETTO:+0700
TZNAME:WIB
DTSTART:20200101T000000
END:STANDARD
END:VTIMEZONE
BEGIN:VEVENT
DTSTART;TZID=Asia/Jakarta:20200930T080000
DTEND;TZID=Asia/Jakarta:20200930T170000
DTSTAMP:20260426T003634
CREATED:20200908T162120Z
LAST-MODIFIED:20200908T164755Z
UID:1545-1601452800-1601485200@isli.or.id
SUMMARY:Testing
DESCRIPTION:Testing
URL:https://isli.or.id/event/testing/
CATEGORIES:Agenda
END:VEVENT
END:VCALENDAR