BEGIN:VCALENDAR
VERSION:2.0
PRODID:-//Institut Supply Chain dan Logistik Indonesia (ISLI) - ECPv5.4.0.1//NONSGML v1.0//EN
CALSCALE:GREGORIAN
METHOD:PUBLISH
X-WR-CALNAME:Institut Supply Chain dan Logistik Indonesia (ISLI)
X-ORIGINAL-URL:https://isli.or.id
X-WR-CALDESC:Events for Institut Supply Chain dan Logistik Indonesia (ISLI)
BEGIN:VTIMEZONE
TZID:Asia/Jakarta
BEGIN:STANDARD
TZOFFSETFROM:+0700
TZOFFSETTO:+0700
TZNAME:WIB
DTSTART:20200101T000000
END:STANDARD
END:VTIMEZONE
BEGIN:VEVENT
DTSTART;TZID=Asia/Jakarta:20201204T080000
DTEND;TZID=Asia/Jakarta:20201204T080000
DTSTAMP:20260425T224744
CREATED:20201201T035328Z
LAST-MODIFIED:20201201T035557Z
UID:1702-1607068800-1607068800@isli.or.id
SUMMARY:Dialog Triple Helix tentang Penataan Ekosistem Logistik Nasional pada Masa Pandemi Covid-19
DESCRIPTION:Dialog Triple Helix antara Akademisi\, Pemerintah\, dan Pelaku Usaha tentang Penataan Ekosistem Logistik Nasional pada Masa Pandemi Covid-19 \nDalam rangka mengefektifkan riset-riset akademik untuk mendukung kebijakan perekonomian nasional\, terutama terkait dengan penataan ekosistem logistik nasional\, \nKementerian Koordinator Bidang Perekonomian bekerjasama dengan Institut Supply Chain dan Logistik Indonesia (ISLI) akan menyelenggarakan\nDialog Triple Helix antara Akademisi\, Pemerintah\, dan Pelaku Usaha tentang Penataan Ekosistem Logistik Nasional pada Masa Pandemi Covid-19\nyang akan dilaksanakan pada; \nHari/tanggal : Jumat\, 4 Desember 2020\nWaktu : 08.30 s.d selesai\nTempat : Sheraton Bandung Hotel & Towers (kuota terbatas)\nOnline : via Zoom \nKonfirmasi kehadiran dapat disampaikan via: \nSdr.Cuher/Eka (082277262012)\natau e-mail asdeplogistik@gmail.com
URL:https://isli.or.id/event/dialog-triple-helix-antara-akademisi-pemerintah-dan-pelaku-usaha-tentang-penataan-ekosistem-logistik-nasional-pada-masa-pandemi-covid-19/
LOCATION:Sheraton Bandung Hotel & Towers\, Bandung\, Jawa Barat\, Indonesia
CATEGORIES:Agenda
END:VEVENT
END:VCALENDAR